BEGIN:VCALENDAR
VERSION:2.0
PRODID:SchoolNow
CALSCALE:GREGORIAN
BEGIN:VEVENT
UID:fea6e344-37fd-11f1-9979-0a58a9feac02
DTSTAMP:20260414T123226Z
SUMMARY:CDD Board Meeting - May 2025
LOCATION:the Offices of Inframark located at 2005 Pan Am Circle\, Suite 300
 \, Tampa\, FL 33607
URL;VALUE=URI:https://www.southcreekcdd.com/calendar/8992718/cdd-board-meet
 ing-may-2025
DTSTART:20250501T180000Z
DTEND:20250501T190000Z
ATTACH;FILENAME=2025-05-01 South Creek Meeting Book.pdf;FMTTYPE=application
 /pdf:https://campussuite-storage.s3.amazonaws.com/prod/1559310/cecb202a-bb
 2c-11f0-b29f-027347f9d4e7/3088969/dfb1ac42-377d-11f1-8665-0afff4951b29/fil
 e/2025-05-01 South Creek Meeting Book.pdf
END:VEVENT
END:VCALENDAR
