BEGIN:VCALENDAR
VERSION:2.0
PRODID:SchoolNow
CALSCALE:GREGORIAN
BEGIN:VEVENT
UID:e731c77e-37fd-11f1-a31f-0affc0f1d53d
DTSTAMP:20260414T123147Z
SUMMARY:CDD Board Meeting - Jun. 2025
LOCATION:the Offices of Inframark located at 2005 Pan Am Circle\, Suite 300
 \, Tampa\, FL 33607
URL;VALUE=URI:https://www.southcreekcdd.com/calendar/8992717/cdd-board-meet
 ing-jun-2025
DTSTART:20250605T180000Z
DTEND:20250605T190000Z
ATTACH;FILENAME=2025-06-05 South Creek Meeting Book.pdf;FMTTYPE=application
 /pdf:https://campussuite-storage.s3.amazonaws.com/prod/1559310/cecb202a-bb
 2c-11f0-b29f-027347f9d4e7/3088970/dfb1ad78-377d-11f1-8284-0afff4951b29/fil
 e/2025-06-05 South Creek Meeting Book.pdf
END:VEVENT
END:VCALENDAR
