BEGIN:VCALENDAR
VERSION:2.0
PRODID:SchoolNow
CALSCALE:GREGORIAN
BEGIN:VEVENT
UID:cbc0a762-37fd-11f1-bcdf-0a58a9feac02
DTSTAMP:20260414T123100Z
SUMMARY:CDD Board Meeting - Jul. 2025
LOCATION:the Offices of Inframark located at 2005 Pan Am Circle\, Suite 300
 \, Tampa\, FL 33607
URL;VALUE=URI:https://www.southcreekcdd.com/calendar/8992716/cdd-board-meet
 ing-jul-2025
DTSTART:20250710T180000Z
DTEND:20250710T190000Z
ATTACH;FILENAME=2025-07-10 South Creek Meeting Book.pdf;FMTTYPE=application
 /pdf:https://campussuite-storage.s3.amazonaws.com/prod/1559310/cecb202a-bb
 2c-11f0-b29f-027347f9d4e7/3088971/dfb1ae7c-377d-11f1-af56-0afff4951b29/fil
 e/2025-07-10 South Creek Meeting Book.pdf
END:VEVENT
END:VCALENDAR
