BEGIN:VCALENDAR
VERSION:2.0
PRODID:SchoolNow
CALSCALE:GREGORIAN
BEGIN:VEVENT
UID:b1a4ecbc-37fd-11f1-82da-0afff4951b29
DTSTAMP:20260414T123017Z
SUMMARY:CDD Board Meeting - Aug. 2025
LOCATION:the Offices of Inframark located at 2005 Pan Am Circle\, Suite 300
 \, Tampa\, FL 33607
URL;VALUE=URI:https://www.southcreekcdd.com/calendar/8992715/cdd-board-meet
 ing-aug-2025
DTSTART:20250807T180000Z
DTEND:20250807T190000Z
ATTACH;FILENAME=2025-08-07 South Creek Meeting Book.pdf;FMTTYPE=application
 /pdf:https://campussuite-storage.s3.amazonaws.com/prod/1559310/cecb202a-bb
 2c-11f0-b29f-027347f9d4e7/3088972/dfb1af76-377d-11f1-ac36-0afff4951b29/fil
 e/2025-08-07 South Creek Meeting Book.pdf
END:VEVENT
END:VCALENDAR
