BEGIN:VCALENDAR
VERSION:2.0
PRODID:SchoolNow
CALSCALE:GREGORIAN
BEGIN:VEVENT
UID:90ff04d4-37fd-11f1-b309-0a58a9feac02
DTSTAMP:20260414T122934Z
SUMMARY:CDD Board Meeting - Sept. 2025
LOCATION:the Offices of Inframark located at 2005 Pan Am Circle\, Suite 300
 \, Tampa\, FL 33607
URL;VALUE=URI:https://www.southcreekcdd.com/calendar/8992714/cdd-board-meet
 ing-sept-2025
DTSTART:20250904T180000Z
DTEND:20250904T190000Z
ATTACH;FILENAME=2025-09-04 South Creek Meeting Book.pdf;FMTTYPE=application
 /pdf:https://campussuite-storage.s3.amazonaws.com/prod/1559310/cecb202a-bb
 2c-11f0-b29f-027347f9d4e7/3088973/dfb1b066-377d-11f1-8e74-0afff4951b29/fil
 e/2025-09-04 South Creek Meeting Book.pdf
END:VEVENT
END:VCALENDAR
