BEGIN:VCALENDAR
VERSION:2.0
PRODID:SchoolNow
CALSCALE:GREGORIAN
BEGIN:VEVENT
UID:da56d97e-c573-11f0-940d-02af76d80f6f
DTSTAMP:20251119T193711Z
SUMMARY:CDD Board Meeting - Sept. 2026
LOCATION:the Offices of Inframark located at 2005 Pan Am Circle\, Suite 300
 \, Tampa\, FL 33607
URL;VALUE=URI:https://www.southcreekcdd.com/calendar/8803754/cdd-board-meet
 ing-sept-2026
DTSTART:20260903T180000Z
DTEND:20260903T190000Z
END:VEVENT
END:VCALENDAR
