BEGIN:VCALENDAR
VERSION:2.0
PRODID:SchoolNow
CALSCALE:GREGORIAN
BEGIN:VEVENT
UID:d1e6dd5c-c573-11f0-af76-0a58a9feac02
DTSTAMP:20251119T193704Z
SUMMARY:CDD Board Meeting - Aug. 2026
LOCATION:the Offices of Inframark located at 2005 Pan Am Circle\, Suite 300
 \, Tampa\, FL 33607
URL;VALUE=URI:https://www.southcreekcdd.com/calendar/8803753/cdd-board-meet
 ing-aug-2026
DTSTART:20260806T180000Z
DTEND:20260806T190000Z
END:VEVENT
END:VCALENDAR
