BEGIN:VCALENDAR
VERSION:2.0
PRODID:SchoolNow
CALSCALE:GREGORIAN
BEGIN:VEVENT
UID:b7e10a54-c573-11f0-acc1-02343ccddbd9
DTSTAMP:20251119T193641Z
SUMMARY:CDD Board Meeting - May 2026
LOCATION:the Offices of Inframark located at 2005 Pan Am Circle\, Suite 300
 \, Tampa\, FL 33607
URL;VALUE=URI:https://www.southcreekcdd.com/calendar/8803750/cdd-board-meet
 ing-may-2026
DTSTART:20260507T180000Z
DTEND:20260507T190000Z
END:VEVENT
END:VCALENDAR
