BEGIN:VCALENDAR
VERSION:2.0
PRODID:SchoolNow
CALSCALE:GREGORIAN
BEGIN:VEVENT
UID:a48153d8-c573-11f0-b85b-0e23de79efab
DTSTAMP:20260414T122731Z
SUMMARY:CDD Board Meeting - Mar. 2026
LOCATION:the Offices of Inframark located at 2005 Pan Am Circle\, Suite 300
 \, Tampa\, FL 33607
URL;VALUE=URI:https://www.southcreekcdd.com/calendar/8803748/cdd-board-meet
 ing-mar-2026
DTSTART:20260305T190000Z
DTEND:20260305T200000Z
ATTACH;FILENAME=2026-03-05 South Creek Meeting Book.pdf;FMTTYPE=application
 /pdf:https://campussuite-storage.s3.amazonaws.com/prod/1559310/cecb202a-bb
 2c-11f0-b29f-027347f9d4e7/3088979/fe601bb0-377d-11f1-aaca-0a58a9feac02/fil
 e/2026-03-05 South Creek Meeting Book.pdf
END:VEVENT
END:VCALENDAR
