BEGIN:VCALENDAR
VERSION:2.0
PRODID:SchoolNow
CALSCALE:GREGORIAN
BEGIN:VEVENT
UID:964f23a8-c573-11f0-93e1-0a58a9feac02
DTSTAMP:20260414T122716Z
SUMMARY:CDD Board Meeting - Jan. 2026
LOCATION:the Offices of Inframark located at 2005 Pan Am Circle\, Suite 300
 \, Tampa\, FL 33607
URL;VALUE=URI:https://www.southcreekcdd.com/calendar/8803747/cdd-board-meet
 ing-jan-2026
DTSTART:20260108T190000Z
DTEND:20260108T200000Z
ATTACH;FILENAME=2026-01-08 South Creek Meeting Book.pdf;FMTTYPE=application
 /pdf:https://campussuite-storage.s3.amazonaws.com/prod/1559310/cecb202a-bb
 2c-11f0-b29f-027347f9d4e7/3088977/fe601980-377d-11f1-9232-0a58a9feac02/fil
 e/2026-01-08 South Creek Meeting Book.pdf
END:VEVENT
END:VCALENDAR
