BEGIN:VCALENDAR
VERSION:2.0
PRODID:SchoolNow
CALSCALE:GREGORIAN
BEGIN:VEVENT
UID:8ab275ea-c573-11f0-a25d-02343ccddbd9
DTSTAMP:20260414T122700Z
SUMMARY:CDD Board Meeting - Dec. 2025
LOCATION:the Offices of Inframark located at 2005 Pan Am Circle\, Suite 300
 \, Tampa\, FL 33607
URL;VALUE=URI:https://www.southcreekcdd.com/calendar/8803746/cdd-board-meet
 ing-dec-2025
DTSTART:20251204T190000Z
DTEND:20251204T200000Z
ATTACH;FILENAME=2025-12-04 South Creek Meeting Book.pdf;FMTTYPE=application
 /pdf:https://campussuite-storage.s3.amazonaws.com/prod/1559310/cecb202a-bb
 2c-11f0-b29f-027347f9d4e7/3088976/fe601836-377d-11f1-8b26-0a58a9feac02/fil
 e/2025-12-04 South Creek Meeting Book.pdf
END:VEVENT
END:VCALENDAR
