BEGIN:VCALENDAR
VERSION:2.0
PRODID:SchoolNow
CALSCALE:GREGORIAN
BEGIN:VEVENT
UID:8239e42a-c573-11f0-a53d-025da0cf94e5
DTSTAMP:20260414T122643Z
SUMMARY:CDD Board Meeting - Nov. 2025
LOCATION:the Offices of Inframark located at 2005 Pan Am Circle\, Suite 300
 \, Tampa\, FL 33607
URL;VALUE=URI:https://www.southcreekcdd.com/calendar/8803745/cdd-board-meet
 ing-nov-2025
DTSTART:20251106T190000Z
DTEND:20251106T200000Z
ATTACH;FILENAME=2025-11-06 South Creek Meeting Book.pdf;FMTTYPE=application
 /pdf:https://campussuite-storage.s3.amazonaws.com/prod/1559310/cecb202a-bb
 2c-11f0-b29f-027347f9d4e7/3088975/fe60153e-377d-11f1-9ef6-0a58a9feac02/fil
 e/2025-11-06 South Creek Meeting Book.pdf
END:VEVENT
END:VCALENDAR
